BEGIN:VCALENDAR
VERSION:2.0
PRODID:-//Skate City SD - ECPv6.15.20//NONSGML v1.0//EN
CALSCALE:GREGORIAN
METHOD:PUBLISH
X-WR-CALNAME:Skate City SD
X-ORIGINAL-URL:https://www.skatecitysd.com
X-WR-CALDESC:Events for Skate City SD
REFRESH-INTERVAL;VALUE=DURATION:PT1H
X-Robots-Tag:noindex
X-PUBLISHED-TTL:PT1H
BEGIN:VTIMEZONE
TZID:America/Winnipeg
BEGIN:DAYLIGHT
TZOFFSETFROM:-0600
TZOFFSETTO:-0500
TZNAME:CDT
DTSTART:20250309T080000
END:DAYLIGHT
BEGIN:STANDARD
TZOFFSETFROM:-0500
TZOFFSETTO:-0600
TZNAME:CST
DTSTART:20251102T070000
END:STANDARD
BEGIN:DAYLIGHT
TZOFFSETFROM:-0600
TZOFFSETTO:-0500
TZNAME:CDT
DTSTART:20260308T080000
END:DAYLIGHT
BEGIN:STANDARD
TZOFFSETFROM:-0500
TZOFFSETTO:-0600
TZNAME:CST
DTSTART:20261101T070000
END:STANDARD
BEGIN:DAYLIGHT
TZOFFSETFROM:-0600
TZOFFSETTO:-0500
TZNAME:CDT
DTSTART:20270314T080000
END:DAYLIGHT
BEGIN:STANDARD
TZOFFSETFROM:-0500
TZOFFSETTO:-0600
TZNAME:CST
DTSTART:20271107T070000
END:STANDARD
END:VTIMEZONE
BEGIN:VEVENT
DTSTART;TZID=America/Winnipeg:20260425T091500
DTEND;TZID=America/Winnipeg:20260516T100000
DTSTAMP:20260420T064615
CREATED:20241115T191939Z
LAST-MODIFIED:20250626T192018Z
UID:10002004-1777108500-1778925600@www.skatecitysd.com
SUMMARY:Skate Class April
DESCRIPTION:Skate Class April 25th to May 16th\n$45 for 4 Instructor Led Lessons\nLearn to skate at our next set of Skate Classes. For $45 you receive 4 instructor led lessons on Saturday mornings from 9:15am to 10am. You also get 2-hours of practice time from 10am to 12pm after the lessons. Choice of skate rental is included!
URL:https://www.skatecitysd.com/event/skate-class-april/
LOCATION:Skate City SD\, 2901 W. 3rd Street\, Sioux Falls\, SD\, 57104\, United States
CATEGORIES:Skate Class
ATTACH;FMTTYPE=image/jpeg:https://www.skatecitysd.com/wp-content/uploads/2024/11/Skate-Class-Apr-25th.jpeg
ORGANIZER;CN="Skate City SD":MAILTO:parties@skatecitysd.com
END:VEVENT
BEGIN:VEVENT
DTSTART;TZID=America/Winnipeg:20260510T120000
DTEND;TZID=America/Winnipeg:20260510T180000
DTSTAMP:20260420T064615
CREATED:20250113T194856Z
LAST-MODIFIED:20260418T223235Z
UID:10002013-1778414400-1778436000@www.skatecitysd.com
SUMMARY:Mothers Day
DESCRIPTION:Celebrate Mother’s Day at Skate City: Moms Skate Free All Day! \nThis Mother’s Day\, Skate City is rolling out the red carpet for moms! Join us on May 10th from 12 PM to 6 PM for a special celebration dedicated to the amazing women who do it all. As our way of saying “thank you\,” all moms will enjoy free admission to this unforgettable event. \nMoms are the heart of every family\, and what better way to honor their love and dedication than with a fun-filled day of skating? Whether she’s a seasoned skater or stepping onto the rink for the first time in years\, Skate City provides the perfect place for moms to let loose\, laugh\, and create cherished memories with their families. \nFor everyone else\, admission is $8\, and skate rentals are just $4. Moms and non-skaters alike can also enjoy the lively atmosphere with great music\, a welcoming community\, and plenty of opportunities to show off your moves on the rink. \nThis event is a great way to switch up your usual Mother’s Day plans. Skip the crowded brunches and give Mom the gift of quality time and fun! She’ll love the chance to glide around the rink\, join in the laughter\, and share an experience she’ll treasure for years to come. \nSo\, gather the family and celebrate the incredible moms in your life at Skate City’s Mother’s Day event. With free admission for all moms and a whole afternoon of skating excitement\, it’s the perfect way to say “thanks” to the women who make life so special. Mark your calendars for May 10th and let’s make this Mother’s Day one to remember! \nwww.skatecitysd.com
URL:https://www.skatecitysd.com/event/mothers-day/
LOCATION:Skate City SD\, 2901 W. 3rd Street\, Sioux Falls\, SD\, 57104\, United States
CATEGORIES:Special Events
ATTACH;FMTTYPE=image/jpeg:https://www.skatecitysd.com/wp-content/uploads/2025/01/Mothers-Day-Skate.jpeg
ORGANIZER;CN="Skate City SD":MAILTO:parties@skatecitysd.com
END:VEVENT
BEGIN:VEVENT
DTSTART;TZID=America/Winnipeg:20260525T120000
DTEND;TZID=America/Winnipeg:20260525T180000
DTSTAMP:20260420T064615
CREATED:20241111T043730Z
LAST-MODIFIED:20250805T200525Z
UID:10002000-1779710400-1779732000@www.skatecitysd.com
SUMMARY:Memorial Day Hotdog Skate
DESCRIPTION:Mark your calendars for a day of skating fun at Skate City’s Annual Memorial Day Hotdog Skate\, happening on Monday\, May 25th\, from 12:00 PM to 6:00 PM. This family-friendly event is the perfect way to spend your day off while enjoying one of America’s favorite pastimes—roller skating! Whether you’re a seasoned skater or just looking for a fun outing with friends and family\, this event offers a fantastic opportunity to get out of the house and have a blast. \nEvent Details\nThe Annual Memorial Day Hotdog Skate at Skate City is a much-anticipated event every year. Admission for the event is $10.00\, and skate rentals are available for just $4.00. Even better\, every skater who pays for admission will receive a free hotdog and drink—a tasty way to fuel up after working up an appetite on the rink! \nFrom noon to early evening\, you and your friends or family can skate to your heart’s content on Skate City’s smooth\, well-maintained roller rink. Whether you’re looking to show off your best moves\, race around with friends\, or enjoy a leisurely skate\, there’s something for everyone. The venue’s upbeat music\, fun atmosphere\, and friendly staff make it a welcoming place for skaters of all ages and skill levels. \nAffordable Family Fun\nIn addition to skating\, the free hotdog and drink offered with every paid admission make this an affordable outing for the entire family. Skate City prides itself on providing a reasonably priced entertainment option\, and this event is no exception. Parents can relax while their children skate or join in on the fun themselves. \nThe $10 admission fee allows unlimited skating from 12 PM to 6 PM\, so you can come and go as you please\, making this event a great way to spend the afternoon or drop in for a couple of hours. And with skate rentals available for just $4.00\, it’s easy for anyone to join in on the fun\, even if you don’t have your own pair of skates. \nCelebrate Memorial Day at Skate City\nIf you’re looking for a fun and memorable way to spend Monday\, May 25th\, head over to Skate City for their Annual Memorial Day Hotdog Skate. With affordable admission\, free food\, and a great time on wheels\, this event is sure to be a hit for everyone. \nCome for the skating\, stay for the community\, and leave with a full heart (and a full stomach)! \nFor more great events head to www.skatecitysd.com \n*No passes accepted during this session.
URL:https://www.skatecitysd.com/event/memorial-day-hotdog-skate/
LOCATION:Skate City SD\, 2901 W. 3rd Street\, Sioux Falls\, SD\, 57104\, United States
CATEGORIES:Memorial Weekend,Schools Out Event,Special Events
ATTACH;FMTTYPE=image/jpeg:https://www.skatecitysd.com/wp-content/uploads/2024/11/Memorial-Day-Web-Slide-2025-01-scaled.jpg
ORGANIZER;CN="Skate City SD":MAILTO:parties@skatecitysd.com
END:VEVENT
END:VCALENDAR